BEGIN:VCALENDAR
VERSION:2.0
PRODID:-//ChamberMaster//Event Calendar 2.0//EN
METHOD:PUBLISH
X-PUBLISHED-TTL:P3D
REFRESH-INTERVAL:P3D
CALSCALE:GREGORIAN
BEGIN:VEVENT
DTSTART:20150912T220000Z
DTEND:20150913T030000Z
X-MICROSOFT-CDO-ALLDAYEVENT:FALSE
SUMMARY:Music on the Course
DESCRIPTION:A Craft Beer Festival with music from Oktoberfest Oompah Band as well as Chef Randy's German menu.
X-ALT-DESC;FMTTYPE=text/html:A Craft Beer Festival with music from Oktoberfest Oompah Band as well as Chef Randy&#39\;s German menu.&nbsp\;&nbsp\;&nbsp\;&nbsp\;
LOCATION:Evergreen Golf Club\, Evergreen Pavilion
UID:e.2059.1673
SEQUENCE:3
DTSTAMP:20260424T141439Z
URL:https://business.elkhornchamber.com/events/details/music-on-the-course-09-12-2015-1673
END:VEVENT

END:VCALENDAR
