BEGIN:VCALENDAR
VERSION:2.0
PRODID:-//ChamberMaster//Event Calendar 2.0//EN
METHOD:PUBLISH
X-PUBLISHED-TTL:P3D
REFRESH-INTERVAL:P3D
CALSCALE:GREGORIAN
BEGIN:VEVENT
DTSTART:20140713T000000Z
DTEND:20140713T020000Z
X-MICROSOFT-CDO-ALLDAYEVENT:FALSE
SUMMARY:Music & Movies in the Park
DESCRIPTION:Enjoy either live music or a movie in beautiful Sunset Park and the historic bandshell.
X-ALT-DESC;FMTTYPE=text/html:Enjoy either live music or a movie in beautiful Sunset Park and the historic bandshell.
LOCATION:Sunset Park Bandshell 200 Devendorf St.\, Elkhorn
UID:e.2059.118
SEQUENCE:3
DTSTAMP:20260425T152433Z
URL:https://business.elkhornchamber.com/events/details/music-movies-in-the-park-07-12-2014-118
END:VEVENT

END:VCALENDAR
