BEGIN:VCALENDAR
VERSION:2.0
PRODID:-//ChamberMaster//Event Calendar 2.0//EN
METHOD:PUBLISH
X-PUBLISHED-TTL:P3D
REFRESH-INTERVAL:P3D
CALSCALE:GREGORIAN
BEGIN:VEVENT
DTSTART;VALUE=DATE:20180720
DTEND;VALUE=DATE:20180721
TRANSP:TRANSPARENT
X-MICROSOFT-CDO-ALLDAYEVENT:TRUE
SUMMARY:Movies in the Park
DESCRIPTION:Join the City of Elkhorn's Park and Recreation for their Movies in the Park. Friday\, July 20th is featuring COCO!
X-ALT-DESC;FMTTYPE=text/html:Join the City of Elkhorn&#39\;s Park and Recreation for their Movies in the Park. Friday\, July 20th is featuring COCO!
LOCATION:Sunset Park Band Shell Sunset Park 200 Devendorf Street Elkhorn\,WI 53121
UID:e.2059.8751
SEQUENCE:3
DTSTAMP:20260422T054817Z
URL:https://business.elkhornchamber.com/events/details/movies-in-the-park-8751
END:VEVENT

END:VCALENDAR
