BEGIN:VCALENDAR
VERSION:2.0
PRODID:-//ChamberMaster//Event Calendar 2.0//EN
METHOD:PUBLISH
X-PUBLISHED-TTL:P3D
REFRESH-INTERVAL:P3D
CALSCALE:GREGORIAN
BEGIN:VEVENT
DTSTART:20190126T180000Z
DTEND:20190126T200000Z
X-MICROSOFT-CDO-ALLDAYEVENT:FALSE
SUMMARY:Movie Showing: Sunset Boulevard
DESCRIPTION:To get you into the film-watching mood before our annual film festival Fridays with Oscar!\, we'll be doing a special afternoon showing of the film noir classic Sunset Boulevard\, the 1950 Oscar-winning film directed by the\n\nlegendary Billy Wilder.
X-ALT-DESC;FMTTYPE=text/html:<p style="text-align:center">To get you into the film-watching mood before our annual film festival&nbsp\;<em>Fridays with Oscar!</em>\, we&rsquo\;ll be doing a special afternoon showing of the film noir classic&nbsp\;<em>Sunset Boulevard</em>\, the 1950 Oscar-winning film directed by the<br />\nlegendary Billy Wilder.</p>\n
LOCATION:Matheson Memorial Library
UID:e.2059.9734
SEQUENCE:3
DTSTAMP:20260421T190459Z
URL:https://business.elkhornchamber.com/events/details/movie-showing-sunset-boulevard-9734
END:VEVENT

END:VCALENDAR
