BEGIN:VCALENDAR
VERSION:2.0
PRODID:-//ChamberMaster//Event Calendar 2.0//EN
METHOD:PUBLISH
X-PUBLISHED-TTL:P3D
REFRESH-INTERVAL:P3D
CALSCALE:GREGORIAN
BEGIN:VEVENT
DTSTART:20160902T230000Z
DTEND:20160903T010000Z
X-MICROSOFT-CDO-ALLDAYEVENT:FALSE
SUMMARY:Movie Night for Alzheimer's
DESCRIPTION:Please join us as we host a movie night to benefit The Walk to End Alzheimer's!  We will be hosting a movie\, "Still Alice\," in our state of the art movie theatre.  For $5 you can view the movie and enjoy a fresh bag of popcorn as well as a soda. \n\n\n\nAll proceeds will be donated to The Walk to End Alzheimer's Walk in Lake Geneva on September 17th. \n\n\n\nWe can seat 40 in our theatre so please reserve your seat as soon as possible!
X-ALT-DESC;FMTTYPE=text/html:Please join us as we host a movie night to benefit The Walk to End Alzheimer&#39\;s!&nbsp\; We will be hosting a movie\, &quot\;Still Alice\,&quot\; in our state of the art movie theatre.&nbsp\; For $5 you can view the movie and enjoy a fresh bag of popcorn as well as a soda.&nbsp\;<br />\n<br />\nAll proceeds will be donated to The Walk to End Alzheimer&#39\;s Walk in Lake Geneva on September 17th.&nbsp\;<br />\n<br />\nWe can seat 40 in our theatre so please reserve your seat as soon as possible!
LOCATION:Atrium Senior Living of Williams Bay at Sherwood Lodge 116 Cherry St. Williams Bay\, WI
UID:e.2059.4497
SEQUENCE:3
DTSTAMP:20260423T191950Z
URL:https://business.elkhornchamber.com/events/details/movie-night-for-alzheimer-s-09-02-2016-4497
END:VEVENT

END:VCALENDAR
