BEGIN:VCALENDAR
VERSION:2.0
PRODID:-//ChamberMaster//Event Calendar 2.0//EN
METHOD:PUBLISH
X-PUBLISHED-TTL:P3D
REFRESH-INTERVAL:P3D
CALSCALE:GREGORIAN
BEGIN:VEVENT
DTSTART:20160731T020000Z
DTEND:20160731T040000Z
X-MICROSOFT-CDO-ALLDAYEVENT:FALSE
SUMMARY:Movie in the Park: The Grinch Who Stole Christmas
DESCRIPTION:The Elkhorn Recreation Department Presents:\n\n\n\nMovie in the Park!  Join us to watch The Grinch Who Stole Christmas at the bandshell in Sunset Park!  Lay out your blanket or set up your chairs in the grass to watch an outdoor movie at dusk!  Concessions will be available. \n\n\n\nSee our Facebook page for updates: Elkhorn Recreation Department.  All movies are subject to change. \n\nContact the Recreation Department if you are interested in sponsoring a movie night!
X-ALT-DESC;FMTTYPE=text/html:The Elkhorn Recreation Department Presents:<br />\n<br />\nMovie in the Park!&nbsp\; Join us to watch The Grinch Who Stole Christmas at the bandshell in Sunset Park!&nbsp\; Lay out your blanket or set up your chairs in the grass to watch an outdoor movie at dusk!&nbsp\; Concessions will be available.&nbsp\;<br />\n<br />\nSee our Facebook page for updates: Elkhorn Recreation Department.&nbsp\; All movies are subject to change.&nbsp\;<br />\nContact the Recreation Department if you are interested in sponsoring a movie night!
LOCATION:200 Devendorf Street
UID:e.2059.3459
SEQUENCE:3
DTSTAMP:20260423T221230Z
URL:https://business.elkhornchamber.com/events/details/movie-in-the-park-the-grinch-who-stole-christmas-07-30-2016-3459
END:VEVENT

END:VCALENDAR
