BEGIN:VCALENDAR
VERSION:2.0
PRODID:-//ChamberMaster//Event Calendar 2.0//EN
METHOD:PUBLISH
X-PUBLISHED-TTL:P3D
REFRESH-INTERVAL:P3D
CALSCALE:GREGORIAN
BEGIN:VEVENT
DTSTART;VALUE=DATE:20170602
DTEND;VALUE=DATE:20170603
TRANSP:TRANSPARENT
X-MICROSOFT-CDO-ALLDAYEVENT:TRUE
SUMMARY:Movie in the Park : SING
DESCRIPTION:Join us for a Movie in the Park in Elkhorn. June 2nd movie will be SING!\n\nFor more information travel to http://www.cityofelkhorn.org/CityServices/ParksAndRec/OverviewPAndR.asp
X-ALT-DESC;FMTTYPE=text/html:Join us for a Movie in the Park in Elkhorn. June 2nd movie will be SING!<br />\nFor more information travel to <a href="http://www.cityofelkhorn.org/CityServices/ParksAndRec/OverviewPAndR.asp">http://www.cityofelkhorn.org/CityServices/ParksAndRec/OverviewPAndR.asp</a>
LOCATION:200 Devendorf St Elkhorn\, WI 53121
UID:e.2059.4786
SEQUENCE:3
DTSTAMP:20260423T041843Z
URL:https://business.elkhornchamber.com/events/details/movie-in-the-park-sing-4786
END:VEVENT

END:VCALENDAR
