BEGIN:VCALENDAR
VERSION:2.0
PRODID:-//ChamberMaster//Event Calendar 2.0//EN
METHOD:PUBLISH
X-PUBLISHED-TTL:P3D
REFRESH-INTERVAL:P3D
CALSCALE:GREGORIAN
BEGIN:VEVENT
DTSTART;VALUE=DATE:20170512
DTEND;VALUE=DATE:20170513
TRANSP:TRANSPARENT
X-MICROSOFT-CDO-ALLDAYEVENT:TRUE
SUMMARY:Movie in the Park : Finding Dory
DESCRIPTION:Join us for a Movie in the Park at Sunset Park\, Elkhorn Wi.\n\nMay 12th Movie is Finding Dory
X-ALT-DESC;FMTTYPE=text/html:Join us for a Movie in the Park at Sunset Park\, Elkhorn Wi.<br />\nMay 12th Movie is Finding Dory
LOCATION:200 Devendorf St Elkhorn\, WI 53121
UID:e.2059.4784
SEQUENCE:3
DTSTAMP:20260423T074736Z
URL:https://business.elkhornchamber.com/events/details/movie-in-the-park-finding-dory-4784
END:VEVENT

END:VCALENDAR
