BEGIN:VCALENDAR
VERSION:2.0
PRODID:-//ChamberMaster//Event Calendar 2.0//EN
METHOD:PUBLISH
X-PUBLISHED-TTL:P3D
REFRESH-INTERVAL:P3D
CALSCALE:GREGORIAN
BEGIN:VEVENT
DTSTART;VALUE=DATE:20170805
DTEND;VALUE=DATE:20170806
TRANSP:TRANSPARENT
X-MICROSOFT-CDO-ALLDAYEVENT:TRUE
SUMMARY:Movie in the Downtown Park: The Secret Life of Pets
DESCRIPTION:Stop on out and enjoy a great family movie outside on the square downtown Elkhorn\, Wisconsin sponsored by Video-n-Game Gallery: Elkhorn\, WI. We will have Door prizes\, giveaways\, and will be taking in donations for the Lakeland Animal Shelter. Stop by early and enjoy Corn and Brat Days!
X-ALT-DESC;FMTTYPE=text/html:<span class="_4n-j _fbReactionComponent__eventDetailsContentTags fsl" data-testid="event-permalink-details">Stop on out and enjoy a great family movie outside on the square downtown <a data-hovercard="/ajax/hovercard/page.php?id=104059516297025&amp\;extragetparams=%7B%22directed_target_id%22%3A250160748795317%7D" data-hovercard-prefer-more-content-show="1" href="https://www.facebook.com/pages/Elkhorn-Wisconsin/104059516297025">Elkhorn\, Wisconsin</a> sponsored by <a data-hovercard="/ajax/hovercard/page.php?id=146977685314209&amp\;extragetparams=%7B%22directed_target_id%22%3A250160748795317%7D" data-hovercard-prefer-more-content-show="1" href="https://www.facebook.com/Video.Gallery.Elkhorn/">Video-n-Game Gallery: Elkhorn\, WI</a>. We will have Door prizes\, giveaways\, and will be taking in donations for the <a data-hovercard="/ajax/hovercard/page.php?id=138972266132182&amp\;extragetparams=%7B%22directed_target_id%22%3A250160748795317%7D" data-hovercard-prefer-more-content-show="1" href="https://www.facebook.com/LakelandAnimalShelter/">Lakeland Animal Shelter</a>. Stop by early and enjoy <a data-hovercard="/ajax/hovercard/event.php?id=690248454511156&amp\;extragetparams=%7B%22source%22%3A1%2C%22action_history%22%3A%22%5B%7B%5C%22surface%5C%22%3A%5C%22newsfeed%5C%22%2C%5C%22mechanism%5C%22%3A%5C%22feed_story%5C%22%2C%5C%22extra_data%5C%22%3A%5B%5D%7D%2C%7B%5C%22surface%5C%22%3A%5C%22permalink%5C%22%2C%5C%22mechanism%5C%22%3A%5C%22surface%5C%22%2C%5C%22extra_data%5C%22%3A%5B%5D%7D%5D%22%2C%22has_source%22%3Atrue%2C%22directed_target_id%22%3A250160748795317%7D" data-hovercard-prefer-more-content-show="1" href="https://www.facebook.com/events/690248454511156/?acontext=%7B%22source%22%3A1%2C%22action_history%22%3A%22%5B%7B%5C%22surface%5C%22%3A%5C%22newsfeed%5C%22%2C%5C%22mechanism%5C%22%3A%5C%22feed_story%5C%22%2C%5C%22extra_data%5C%22%3A%5B%5D%7D%2C%7B%5C%22surface%5C%22%3A%5C%22permalink%5C%22%2C%5C%22mechanism%5C%22%3A%5C%22surface%5C%22%2C%5C%22extra_data%5C%22%3A%5B%5D%7D%5D%22%2C%22has_source%22%3Atrue%7D&amp\;source=1&amp\;action_history=%5B%7B%22surface%22%3A%22newsfeed%22%2C%22mechanism%22%3A%22feed_story%22%2C%22extra_data%22%3A%5B%5D%7D%2C%7B%22surface%22%3A%22permalink%22%2C%22mechanism%22%3A%22surface%22%2C%22extra_data%22%3A%5B%5D%7D%5D&amp\;has_source=1">Corn and Brat Days</a>!</span>
LOCATION:Downtown Square Veterans Park Elkhorn\, WI
UID:e.2059.5485
SEQUENCE:3
DTSTAMP:20260422T233835Z
URL:https://business.elkhornchamber.com/events/details/movie-in-the-downtown-park-the-secret-life-of-pets-5485
END:VEVENT

END:VCALENDAR
