BEGIN:VCALENDAR
VERSION:2.0
PRODID:-//ChamberMaster//Event Calendar 2.0//EN
METHOD:PUBLISH
X-PUBLISHED-TTL:P3D
REFRESH-INTERVAL:P3D
CALSCALE:GREGORIAN
BEGIN:VEVENT
DTSTART:20180513T140000Z
DTEND:20180513T190000Z
X-MICROSOFT-CDO-ALLDAYEVENT:FALSE
SUMMARY:Mother's Day Brunch
DESCRIPTION:Mother's Day Brunch at Evergreen Country Club has all the offerings on their buffet style brunch. Seating is from 9am until 2pm and reservations are highly recommended. To be served:\n\nOmelet Action Station\n\nPasta  Action Station\n\nChef-Carved Prime Rib\n\nHash browns O'brien\n\nCheesy hash browns\n\nScrambled eggs\n\nBiscuits and gravy\n\nMaple syrup sausage links\n\nApplewood smoked bacon\n\nTexas Style french toast\n\nSlow roasted chicken\n\nRosemary garlic potatoes\n\nAssorted salads\n\nFresh fruit trays\n\nExtensive Sweets table
X-ALT-DESC;FMTTYPE=text/html:Mother&#39\;s Day Brunch at Evergreen Country Club has all the offerings on their buffet style brunch. Seating is from 9am until 2pm and reservations are highly recommended. To be served:<br />\nOmelet Action Station<br />\nPasta&nbsp\; Action Station<br />\nChef-Carved Prime Rib<br />\nHash browns O&#39\;brien<br />\nCheesy hash browns<br />\nScrambled eggs<br />\nBiscuits and gravy<br />\nMaple syrup sausage links<br />\nApplewood&nbsp\;smoked bacon<br />\nTexas Style french toast<br />\nSlow roasted chicken<br />\nRosemary garlic potatoes<br />\nAssorted salads<br />\nFresh fruit trays<br />\nExtensive Sweets table
LOCATION:Evergreen Country Club
UID:e.2059.8757
SEQUENCE:3
DTSTAMP:20260422T102512Z
URL:https://business.elkhornchamber.com/events/details/mother-s-day-brunch-8757
END:VEVENT

END:VCALENDAR
