BEGIN:VCALENDAR
VERSION:2.0
PRODID:-//ChamberMaster//Event Calendar 2.0//EN
METHOD:PUBLISH
X-PUBLISHED-TTL:P3D
REFRESH-INTERVAL:P3D
CALSCALE:GREGORIAN
BEGIN:VEVENT
DTSTART:20170514T140000Z
DTEND:20170514T190000Z
X-MICROSOFT-CDO-ALLDAYEVENT:FALSE
SUMMARY:Mother's Day Brunch
DESCRIPTION:Evergreen Country Club will be offering a Mother's Day Brunch with all the delicious fixings. On Sunday\, May 14th they will be offering a buffet style service.\n\nOmelet Action Station\n\nPasta Action Station\n\nChef-Carved Prime Rib\n\nHash Brown O'Brien\n\nCheesy Hash Browns\n\nScrambled Eggs\n\nBiscuits and Gravy\n\nMaple Syrup Sausage Links\n\nApplewood smoked bacon\n\nTexas Style French Toast\n\nSlow Roasted Chicken\n\nRosemary Garlic Potatoes\n\nAssorted Salads\, fresh fruit trays\n\nExtensive Sweets Table.\n\nBeverages included: milk\, coffee\, tea or juice
X-ALT-DESC;FMTTYPE=text/html:Evergreen Country Club will be offering a Mother&#39\;s Day Brunch with all the delicious fixings. On Sunday\, May 14th they will be offering a buffet style service.<br />\nOmelet Action Station<br />\nPasta Action Station<br />\nChef-Carved Prime Rib<br />\nHash Brown O&#39\;Brien<br />\nCheesy Hash Browns<br />\nScrambled Eggs<br />\nBiscuits and Gravy<br />\nMaple Syrup Sausage Links<br />\nApplewood smoked bacon<br />\nTexas Style French Toast<br />\nSlow Roasted Chicken<br />\nRosemary Garlic Potatoes<br />\nAssorted Salads\, fresh fruit trays<br />\nExtensive Sweets Table.<br />\nBeverages included: milk\, coffee\, tea or juice<br />\n<br />\n&nbsp\;
LOCATION:Evergreen Country Club Elkhorn\, Wi
UID:e.2059.5054
SEQUENCE:3
DTSTAMP:20260423T074344Z
URL:https://business.elkhornchamber.com/events/details/mother-s-day-brunch-5054
END:VEVENT

END:VCALENDAR
