BEGIN:VCALENDAR
VERSION:2.0
PRODID:-//ChamberMaster//Event Calendar 2.0//EN
METHOD:PUBLISH
X-PUBLISHED-TTL:P3D
REFRESH-INTERVAL:P3D
CALSCALE:GREGORIAN
BEGIN:VEVENT
DTSTART:20180513T133000Z
DTEND:20180513T153000Z
X-MICROSOFT-CDO-ALLDAYEVENT:FALSE
SUMMARY:Mother's Day Bird Walk
DESCRIPTION:Join birding experts from Kettle Moraine Land Trust and Friends of the Mukwonago River for a walk through Beulah Bog State Natural Area to see resident and migratory birds as well as the unusual vegetation in the bog. The event is free\, but please register by calling Maggie Zoellner\, KMLT Executive Director\, at 262-949-7211.
X-ALT-DESC;FMTTYPE=text/html:Join birding experts from Kettle Moraine Land Trust and Friends of the Mukwonago River for a walk through Beulah Bog State Natural Area to see resident and migratory birds as well as the unusual vegetation in the bog. The event is free\, but please register by calling Maggie Zoellner\, KMLT Executive Director\, at 262-949-7211.
LOCATION:Beulah Bog State Natural Area\, Stringers Bridge Road between Highway J and St Peters Road\, East Troy.
UID:e.2059.8775
SEQUENCE:3
DTSTAMP:20260422T101452Z
URL:https://business.elkhornchamber.com/events/details/mother-s-day-bird-walk-8775
END:VEVENT

END:VCALENDAR
