BEGIN:VCALENDAR
VERSION:2.0
PRODID:-//ChamberMaster//Event Calendar 2.0//EN
METHOD:PUBLISH
X-PUBLISHED-TTL:P3D
REFRESH-INTERVAL:P3D
CALSCALE:GREGORIAN
BEGIN:VEVENT
DTSTART:20170514T140000Z
DTEND:20170514T170000Z
X-MICROSOFT-CDO-ALLDAYEVENT:FALSE
SUMMARY:Mother's Day Bird & Nature Walk
DESCRIPTION:Join Kettle Moraine Land Trust experts for the annual bird and nature walk at Price Park. We will look for migrating birds and enjoy the prairies and and forests of Price Park. This event is suitable for all ages and the hikes are flat paths with some gentle slopes.
X-ALT-DESC;FMTTYPE=text/html:Join Kettle Moraine Land Trust experts for the annual bird and nature walk at Price Park. We will look for migrating birds and enjoy the prairies and and forests of Price Park. This event is suitable for all ages and the hikes are flat paths with some gentle slopes.
LOCATION:Price Park\, N6418 Hodunk Rd\, East Troy
UID:e.2059.4779
SEQUENCE:3
DTSTAMP:20260423T060814Z
URL:https://business.elkhornchamber.com/events/details/mother-s-day-bird-nature-walk-4779
END:VEVENT

END:VCALENDAR
