BEGIN:VCALENDAR
VERSION:2.0
PRODID:-//ChamberMaster//Event Calendar 2.0//EN
METHOD:PUBLISH
X-PUBLISHED-TTL:P3D
REFRESH-INTERVAL:P3D
CALSCALE:GREGORIAN
BEGIN:VEVENT
DTSTART:20170111T213000Z
DTEND:20170111T230000Z
X-MICROSOFT-CDO-ALLDAYEVENT:FALSE
SUMMARY:More Greens\, Grains\, and Beans - Practical Tips for 2017
DESCRIPTION:Did you make a new year's resolution to eat healthier? Nurse and nutritionist Joan Davis will be visiting the Matheson Memorial Library again to provide practical eating tips to help you lose weight and gain energy.  The program is free\, but registration is required. Please register here on the calendar or call us at (262) 723-2678.
X-ALT-DESC;FMTTYPE=text/html:<span style="color:rgb(0\, 0\, 0)\; font-family:arial\; font-size:12px">Did you make a new year&#39\;s resolution to eat healthier? Nurse and nutritionist Joan Davis will be visiting the Matheson Memorial Library again to provide practical eating tips to help you lose weight and gain energy. &nbsp\;</span><span style="background-color:rgb(255\, 255\, 255)\; font-family:arial\; font-size:12px">The program is free\, but registration is required. Please register here on the calendar or call us at (262) 723-2678.</span>
LOCATION:
UID:e.2059.4615
SEQUENCE:3
DTSTAMP:20260423T122709Z
URL:https://business.elkhornchamber.com/events/details/more-greens-grains-and-beans-practical-tips-for-2017-4615
END:VEVENT

END:VCALENDAR
