BEGIN:VCALENDAR
VERSION:2.0
PRODID:-//ChamberMaster//Event Calendar 2.0//EN
METHOD:PUBLISH
X-PUBLISHED-TTL:P3D
REFRESH-INTERVAL:P3D
CALSCALE:GREGORIAN
BEGIN:VEVENT
DTSTART:20150226T003000Z
DTEND:20150226T013000Z
X-MICROSOFT-CDO-ALLDAYEVENT:FALSE
SUMMARY:Money Talks Seminar
DESCRIPTION:MONEY TALKS Helping your children make smart financial choices. Join us to learn ways to talk to your children about the importance of managing money. From helpful tips to valuable conversation starters\, these are smart lessons that can help them for a lifetime. Free workbook included.
X-ALT-DESC;FMTTYPE=text/html:MONEY TALKS Helping your children make smart financial choices. Join us to learn ways to talk to your children about the importance of managing money. From helpful tips to valuable conversation starters\, these are smart lessons that can help them for a lifetime. Free workbook included.
LOCATION:Big Foot High School Walworth\, WI
UID:e.2059.848
SEQUENCE:3
DTSTAMP:20260425T022504Z
URL:https://business.elkhornchamber.com/events/details/money-talks-seminar-02-25-2015-848
END:VEVENT

END:VCALENDAR
