BEGIN:VCALENDAR
VERSION:2.0
PRODID:-//ChamberMaster//Event Calendar 2.0//EN
METHOD:PUBLISH
X-PUBLISHED-TTL:P3D
REFRESH-INTERVAL:P3D
CALSCALE:GREGORIAN
BEGIN:VEVENT
DTSTART:20180426T233000Z
DTEND:20180427T010000Z
X-MICROSOFT-CDO-ALLDAYEVENT:FALSE
SUMMARY:Money Smart Week: Financial Literacy
DESCRIPTION:Each year the American Library Association and the Federal Reserve dedicate a week in April for promoting financial literacy and independence. This year\, Money Smart Week is April 21-28. The library is hosting Amanda Kostman from the UW Extension Service and she will be talking about budgeting and managing your income\, practical saving tips for retirement or for realizing a special dream\, and ways to avoid financial pitfalls as you go through life.
X-ALT-DESC;FMTTYPE=text/html:<span style="color:rgb(0\, 0\, 0)\; font-family:arial\; font-size:12px">Each year the American Library Association and the Federal Reserve dedicate a week in April for promoting financial literacy and independence. This year\, Money Smart Week is April 21-28. The library is&nbsp\;hosting Amanda Kostman from the UW Extension Service and she&nbsp\;will be talking about budgeting and managing your income\, practical saving tips for retirement or for&nbsp\;realizing&nbsp\;a special dream\, and ways to avoid financial pitfalls as you go through life.</span>
LOCATION:Matheson Memorial Library
UID:e.2059.7600
SEQUENCE:3
DTSTAMP:20260422T115136Z
URL:https://business.elkhornchamber.com/events/details/money-smart-week-financial-literacy-7600
END:VEVENT

END:VCALENDAR
