BEGIN:VCALENDAR
VERSION:2.0
PRODID:-//ChamberMaster//Event Calendar 2.0//EN
METHOD:PUBLISH
X-PUBLISHED-TTL:P3D
REFRESH-INTERVAL:P3D
CALSCALE:GREGORIAN
BEGIN:VEVENT
DTSTART:20180924T214500Z
DTEND:20180924T214500Z
X-MICROSOFT-CDO-ALLDAYEVENT:FALSE
SUMMARY:Monday Men's Golf League - Evergreen Country Club
DESCRIPTION:New Monday Men's League\n\nKick off meeting Saturday March 24 at Noon\, at Evergreen CC\n\n \n\nLeague Activities are every Monday starting April 30\n\nThis is designed to be a FUN\, yet competitive league\n\nEvery week is a 5pm shotgun start (4:45 in April\, May & September)\n\nThis is a 2 Man League\n\nSingle players are encouraged...we'll pair you with someone\n\nHandicap will be set after first 3 weeks\n\nNightly Food & Drink Specials in the PUB after play\n\n  Format...\n\nFirst part of season is a combo of medal & match play\n\n2nd phase is a 4 week mini tournament\n\nLast week is a 4 man scramble\n\n  Cost...\n\n$75 per player league fee\, 100% payout\n\nOptional $2 weekly game\n\n$25 weekly greens fee/cart or use your memberships\n\nLeague Contact: Larry Jacobs LawrenceRjacob@gmail.com
X-ALT-DESC;FMTTYPE=text/html:<p class="font_8" style="margin: 0px\; padding: 0px\; border: 0px\; outline: 0px\; vertical-align: baseline\; background: 0px 0px\; font-variant-numeric: normal\; font-variant-east-asian: normal\; font-stretch: normal\; font-size: 20px\; line-height: normal\; font-family: din-next-w01-light\, din-next-w02-light\, din-next-w10-light\, sans-serif\; color: rgb(96\, 94\, 94)\; pointer-events: auto\; text-align: center\;"><span style="margin: 0px\; padding: 0px\; border: 0px\; outline: 0px\; vertical-align: baseline\; background: 0px 0px\; text-shadow: rgba(0\, 0\, 0\, 0.4) 0px 4px 5px\;"><span style="margin: 0px\; padding: 0px\; border: 0px\; outline: 0px\; vertical-align: baseline\; background: 0px 0px\; font-style: italic\;"><span style="margin: 0px\; padding: 0px\; border: 0px\; outline: 0px\; vertical-align: baseline\; background: 0px 0px\; font-weight: bold\;"><span class="color_28" style="margin: 0px\; padding: 0px\; border: 0px\; outline: 0px\; vertical-align: baseline\; background: 0px 0px\; color: rgb(222\, 80\, 33)\;">New</span>&nbsp\;Monday Men&#39\;s League</span></span></span></p>\n\n<p class="font_8" style="margin: 0px\; padding: 0px\; border: 0px\; outline: 0px\; vertical-align: baseline\; background: 0px 0px\; font-variant-numeric: normal\; font-variant-east-asian: normal\; font-stretch: normal\; font-size: 15px\; line-height: normal\; font-family: din-next-w01-light\, din-next-w02-light\, din-next-w10-light\, sans-serif\; color: rgb(96\, 94\, 94)\; pointer-events: auto\; text-align: center\;"><span style="margin: 0px\; padding: 0px\; border: 0px\; outline: 0px\; vertical-align: baseline\; background: 0px 0px\; font-weight: bold\;">Kick off meeting Saturday March 24 at Noon\, at Evergreen CC</span><br />\n&nbsp\;</p>\n\n<p class="font_8" style="margin: 0px\; padding: 0px\; border: 0px\; outline: 0px\; vertical-align: baseline\; background: 0px 0px\; font-variant-numeric: normal\; font-variant-east-asian: normal\; font-stretch: normal\; font-size: 15px\; line-height: normal\; font-family: din-next-w01-light\, din-next-w02-light\, din-next-w10-light\, sans-serif\; color: rgb(96\, 94\, 94)\; pointer-events: auto\; text-align: center\;"><span class="color_15" style="margin: 0px\; padding: 0px\; border: 0px\; outline: 0px\; vertical-align: baseline\; background: 0px 0px\; color: rgb(47\, 46\, 46)\;">League Activities are every Monday starting April 30</span></p>\n\n<p class="font_8" style="margin: 0px\; padding: 0px\; border: 0px\; outline: 0px\; vertical-align: baseline\; background: 0px 0px\; font-variant-numeric: normal\; font-variant-east-asian: normal\; font-stretch: normal\; font-size: 15px\; line-height: normal\; font-family: din-next-w01-light\, din-next-w02-light\, din-next-w10-light\, sans-serif\; color: rgb(96\, 94\, 94)\; pointer-events: auto\; text-align: center\;"><span class="color_15" style="margin: 0px\; padding: 0px\; border: 0px\; outline: 0px\; vertical-align: baseline\; background: 0px 0px\; color: rgb(47\, 46\, 46)\;">This is designed to be a FUN\, yet competitive league</span></p>\n\n<p class="font_8" style="margin: 0px\; padding: 0px\; border: 0px\; outline: 0px\; vertical-align: baseline\; background: 0px 0px\; font-variant-numeric: normal\; font-variant-east-asian: normal\; font-stretch: normal\; font-size: 15px\; line-height: normal\; font-family: din-next-w01-light\, din-next-w02-light\, din-next-w10-light\, sans-serif\; color: rgb(96\, 94\, 94)\; pointer-events: auto\; text-align: center\;"><span class="color_15" style="margin: 0px\; padding: 0px\; border: 0px\; outline: 0px\; vertical-align: baseline\; background: 0px 0px\; color: rgb(47\, 46\, 46)\;">Every week is a 5pm shotgun start (4:45&nbsp\;in April\, May &amp\; September)</span></p>\n\n<p class="font_8" style="margin: 0px\; padding: 0px\; border: 0px\; outline: 0px\; vertical-align: baseline\; background: 0px 0px\; font-variant-numeric: normal\; font-variant-east-asian: normal\; font-stretch: normal\; font-size: 15px\; line-height: normal\; font-family: din-next-w01-light\, din-next-w02-light\, din-next-w10-light\, sans-serif\; color: rgb(96\, 94\, 94)\; pointer-events: auto\; text-align: center\;"><span class="color_15" style="margin: 0px\; padding: 0px\; border: 0px\; outline: 0px\; vertical-align: baseline\; background: 0px 0px\; color: rgb(47\, 46\, 46)\;">This is a 2 Man League<br />\nSingle players are encouraged...we&#39\;ll pair you with someone<br />\nHandicap will be set after&nbsp\;first 3 weeks</span></p>\n\n<p class="font_8" style="margin: 0px\; padding: 0px\; border: 0px\; outline: 0px\; vertical-align: baseline\; background: 0px 0px\; font-variant-numeric: normal\; font-variant-east-asian: normal\; font-stretch: normal\; font-size: 15px\; line-height: normal\; font-family: din-next-w01-light\, din-next-w02-light\, din-next-w10-light\, sans-serif\; color: rgb(96\, 94\, 94)\; pointer-events: auto\; text-align: center\;"><span class="color_15" style="margin: 0px\; padding: 0px\; border: 0px\; outline: 0px\; vertical-align: baseline\; background: 0px 0px\; color: rgb(47\, 46\, 46)\;">Nightly Food &amp\; Drink Specials in the PUB after play</span></p>\n\n<p class="font_8" style="margin: 0px\; padding: 0px\; border: 0px\; outline: 0px\; vertical-align: baseline\; background: 0px 0px\; font-variant-numeric: normal\; font-variant-east-asian: normal\; font-stretch: normal\; font-size: 15px\; line-height: normal\; font-family: din-next-w01-light\, din-next-w02-light\, din-next-w10-light\, sans-serif\; color: rgb(96\, 94\, 94)\; pointer-events: auto\; text-align: center\;"><span class="color_15" style="margin: 0px\; padding: 0px\; border: 0px\; outline: 0px\; vertical-align: baseline\; background: 0px 0px\; color: rgb(47\, 46\, 46)\;">&bull\; Format...</span></p>\n\n<p class="font_8" style="margin: 0px\; padding: 0px\; border: 0px\; outline: 0px\; vertical-align: baseline\; background: 0px 0px\; font-variant-numeric: normal\; font-variant-east-asian: normal\; font-stretch: normal\; font-size: 15px\; line-height: normal\; font-family: din-next-w01-light\, din-next-w02-light\, din-next-w10-light\, sans-serif\; color: rgb(96\, 94\, 94)\; pointer-events: auto\; text-align: center\;"><span class="color_15" style="margin: 0px\; padding: 0px\; border: 0px\; outline: 0px\; vertical-align: baseline\; background: 0px 0px\; color: rgb(47\, 46\, 46)\;">First part of season is a combo of medal &amp\; match play</span></p>\n\n<p class="font_8" style="margin: 0px\; padding: 0px\; border: 0px\; outline: 0px\; vertical-align: baseline\; background: 0px 0px\; font-variant-numeric: normal\; font-variant-east-asian: normal\; font-stretch: normal\; font-size: 15px\; line-height: normal\; font-family: din-next-w01-light\, din-next-w02-light\, din-next-w10-light\, sans-serif\; color: rgb(96\, 94\, 94)\; pointer-events: auto\; text-align: center\;"><span class="color_15" style="margin: 0px\; padding: 0px\; border: 0px\; outline: 0px\; vertical-align: baseline\; background: 0px 0px\; color: rgb(47\, 46\, 46)\;">2nd phase is a 4 week&nbsp\;mini tournament</span></p>\n\n<p class="font_8" style="margin: 0px\; padding: 0px\; border: 0px\; outline: 0px\; vertical-align: baseline\; background: 0px 0px\; font-variant-numeric: normal\; font-variant-east-asian: normal\; font-stretch: normal\; font-size: 15px\; line-height: normal\; font-family: din-next-w01-light\, din-next-w02-light\, din-next-w10-light\, sans-serif\; color: rgb(96\, 94\, 94)\; pointer-events: auto\; text-align: center\;"><span class="color_15" style="margin: 0px\; padding: 0px\; border: 0px\; outline: 0px\; vertical-align: baseline\; background: 0px 0px\; color: rgb(47\, 46\, 46)\;">Last week is a 4 man scramble</span></p>\n\n<p class="font_8" style="margin: 0px\; padding: 0px\; border: 0px\; outline: 0px\; vertical-align: baseline\; background: 0px 0px\; font-variant-numeric: normal\; font-variant-east-asian: normal\; font-stretch: normal\; font-size: 15px\; line-height: normal\; font-family: din-next-w01-light\, din-next-w02-light\, din-next-w10-light\, sans-serif\; color: rgb(96\, 94\, 94)\; pointer-events: auto\; text-align: center\;"><span class="color_15" style="margin: 0px\; padding: 0px\; border: 0px\; outline: 0px\; vertical-align: baseline\; background: 0px 0px\; color: rgb(47\, 46\, 46)\;">&bull\; Cost...</span></p>\n\n<p class="font_8" style="margin: 0px\; padding: 0px\; border: 0px\; outline: 0px\; vertical-align: baseline\; background: 0px 0px\; font-variant-numeric: normal\; font-variant-east-asian: normal\; font-stretch: normal\; font-size: 15px\; line-height: normal\; font-family: din-next-w01-light\, din-next-w02-light\, din-next-w10-light\, sans-serif\; color: rgb(96\, 94\, 94)\; pointer-events: auto\; text-align: center\;"><span class="color_15" style="margin: 0px\; padding: 0px\; border: 0px\; outline: 0px\; vertical-align: baseline\; background: 0px 0px\; color: rgb(47\, 46\, 46)\;">$75 per player league fee\, 100% payout</span></p>\n\n<p class="font_8" style="margin: 0px\; padding: 0px\; border: 0px\; outline: 0px\; vertical-align: baseline\; background: 0px 0px\; font-variant-numeric: normal\; font-variant-east-asian: normal\; font-stretch: normal\; font-size: 15px\; line-height: normal\; font-family: din-next-w01-light\, din-next-w02-light\, din-next-w10-light\, sans-serif\; color: rgb(96\, 94\, 94)\; pointer-events: auto\; text-align: center\;"><span class="color_15" style="margin: 0px\; padding: 0px\; border: 0px\; outline: 0px\; vertical-align: baseline\; background: 0px 0px\; color: rgb(47\, 46\, 46)\;">Optional $2 weekly game</span></p>\n\n<p class="font_8" style="margin: 0px\; padding: 0px\; border: 0px\; outline: 0px\; vertical-align: baseline\; background: 0px 0px\; font-variant-numeric: normal\; font-variant-east-asian: normal\; font-stretch: normal\; font-size: 15px\; line-height: normal\; font-family: din-next-w01-light\, din-next-w02-light\, din-next-w10-light\, sans-serif\; color: rgb(96\, 94\, 94)\; pointer-events: auto\; text-align: center\;"><span class="color_15" style="margin: 0px\; padding: 0px\; border: 0px\; outline: 0px\; vertical-align: baseline\; background: 0px 0px\; color: rgb(47\, 46\, 46)\;">$25 weekly greens fee/cart or use your memberships</span></p>\n\n<p class="font_8" style="margin: 0px\; padding: 0px\; border: 0px\; outline: 0px\; vertical-align: baseline\; background: 0px 0px\; font-variant-numeric: normal\; font-variant-east-asian: normal\; font-stretch: normal\; font-size: 15px\; line-height: normal\; font-family: din-next-w01-light\, din-next-w02-light\, din-next-w10-light\, sans-serif\; color: rgb(96\, 94\, 94)\; pointer-events: auto\; text-align: center\;"><span class="color_15" style="margin: 0px\; padding: 0px\; border: 0px\; outline: 0px\; vertical-align: baseline\; background: 0px 0px\; color: rgb(47\, 46\, 46)\;">League Contact: Larry Jacobs&nbsp\;</span>LawrenceRjacob@gmail.com</p>\n
LOCATION:Evergreen Country Club\, N6246 US-12\, Elkhorn\, WI 53121
UID:e.2059.9216
SEQUENCE:3
DTSTAMP:20260422T021608Z
URL:https://business.elkhornchamber.com/events/details/monday-men-s-golf-league-evergreen-country-club-09-24-2018-9216
END:VEVENT

END:VCALENDAR
