BEGIN:VCALENDAR
VERSION:2.0
PRODID:-//ChamberMaster//Event Calendar 2.0//EN
METHOD:PUBLISH
X-PUBLISHED-TTL:P3D
REFRESH-INTERVAL:P3D
CALSCALE:GREGORIAN
BEGIN:VEVENT
DTSTART:20180715T160000Z
DTEND:20180715T230000Z
X-MICROSOFT-CDO-ALLDAYEVENT:FALSE
SUMMARY:Moms Rock! at Sunset Park
DESCRIPTION:Thank you moms for all that you do! Moms get in FREE with child's paid admission at Sunset Pool on July 15th.
X-ALT-DESC;FMTTYPE=text/html:Thank you moms for all that you do! Moms get in FREE with child&#39\;s paid admission at Sunset Pool on July 15th.&nbsp\;
LOCATION:320 Devendorf Street\, Elkhorn\, WI 53121
UID:e.2059.9031
SEQUENCE:3
DTSTAMP:20260422T054225Z
URL:https://business.elkhornchamber.com/events/details/moms-rock-at-sunset-park-9031
END:VEVENT

END:VCALENDAR
