BEGIN:VCALENDAR
VERSION:2.0
PRODID:-//ChamberMaster//Event Calendar 2.0//EN
METHOD:PUBLISH
X-PUBLISHED-TTL:P3D
REFRESH-INTERVAL:P3D
CALSCALE:GREGORIAN
BEGIN:VEVENT
DTSTART;VALUE=DATE:20161212
DTEND;VALUE=DATE:20161217
TRANSP:TRANSPARENT
X-MICROSOFT-CDO-ALLDAYEVENT:TRUE
SUMMARY:MK Cellular 2nd Annual Food Drive
DESCRIPTION:MK Cellular's celebrating their 2nd Annual Food Drive! We are collecting non-perishable food items and will be donating them to the Elkhorn Food Pantry. With every item donated MK Cellular will match it! Help us spread the Christmas Spirit this giving season by donating today!
X-ALT-DESC;FMTTYPE=text/html:MK Cellular&#39\;s celebrating their 2nd Annual Food Drive! We are collecting non-perishable food items and will be donating them to the Elkhorn Food Pantry. With every item donated MK Cellular will match it! Help us spread the Christmas Spirit this giving season by donating today!
LOCATION:MK Cellular 58 w Market St Elkhorn
UID:e.2059.4621
SEQUENCE:3
DTSTAMP:20260423T153747Z
URL:https://business.elkhornchamber.com/events/details/mk-cellular-2nd-annual-food-drive-4621
END:VEVENT

END:VCALENDAR
