BEGIN:VCALENDAR
VERSION:2.0
PRODID:-//ChamberMaster//Event Calendar 2.0//EN
METHOD:PUBLISH
X-PUBLISHED-TTL:P3D
REFRESH-INTERVAL:P3D
CALSCALE:GREGORIAN
BEGIN:VEVENT
DTSTART;VALUE=DATE:20190223
DTEND;VALUE=DATE:20190224
TRANSP:TRANSPARENT
X-MICROSOFT-CDO-ALLDAYEVENT:TRUE
SUMMARY:Missoula Children's Theatre - Snow White and the Seven Dwarfs
DESCRIPTION:Missoula Children's Theatre is the nation's largest touring children's theatre\, touring extensively for more than 40 years\, performing all over the world. A tour team arrives in a given town with a set\, lights\, costumes\, props and make-up\, everything it takes to put on a play...except the cast. The team holds an open audition and casts 50-60 local students to perform in the production. The show is rehearsed throughout the week and a public performance is presented on a Saturday. All MCT shows are original adaptations of classic children's stories and fairytales...a twist on the classic stories that you know and love. Auditions for children in grades K-12 will be held on Monday\, February 18\, 2019 at 4 p.m. Call (262) 472-1432 for more information.
X-ALT-DESC;FMTTYPE=text/html:<span style="color: rgb(102\, 102\, 102)\; font-family: &quot\;PT Sans&quot\;\, sans-serif\; font-size: 16px\;">Missoula Children&#39\;s Theatre is the nation&#39\;s largest touring children&#39\;s theatre\, touring extensively for more than 40 years\, performing all over the world. A tour team arrives in a given town with a set\, lights\, costumes\, props and make-up\, everything it takes to put on a play...except the cast. The team holds an open audition and casts 50-60 local students to perform in the production. The show is rehearsed throughout the week and a public performance is presented on a Saturday. All MCT shows are original adaptations of classic children&#39\;s stories and fairytales...a twist on the classic stories that you know and love. Auditions for children in grades K-12 will be held on Monday\, February 18\, 2019 at 4 p.m. Call (262) 472-1432 for more information.</span>
LOCATION:Young Auditorium 930 W. Main Street Whitewater\, WI 53190
UID:e.2059.10193
SEQUENCE:3
DTSTAMP:20260421T172205Z
URL:https://business.elkhornchamber.com/events/details/missoula-children-s-theatre-snow-white-and-the-seven-dwarfs-10193
END:VEVENT

END:VCALENDAR
