BEGIN:VCALENDAR
VERSION:2.0
PRODID:-//ChamberMaster//Event Calendar 2.0//EN
METHOD:PUBLISH
X-PUBLISHED-TTL:P3D
REFRESH-INTERVAL:P3D
CALSCALE:GREGORIAN
BEGIN:VEVENT
DTSTART:20151107T150000Z
DTEND:20151107T210000Z
X-MICROSOFT-CDO-ALLDAYEVENT:FALSE
SUMMARY:Millards ~Crafts in the Country~
DESCRIPTION:~Crafts in the Country~ Join the Millard Community Covenant Church for a event that benefits their church scholarship fund. Crafts\, Gifts with a Bake Sale.
X-ALT-DESC;FMTTYPE=text/html:~Crafts in the Country~ Join the Millard Community Covenant Church for a event that benefits their church scholarship fund. Crafts\, Gifts with a Bake Sale.
LOCATION:Millard Community Covenant Church Intersection of County Rd. A & O - North of Elkhorn
UID:e.2059.1738
SEQUENCE:3
DTSTAMP:20260424T124336Z
URL:https://business.elkhornchamber.com/events/details/millards-crafts-in-the-country-11-07-2015-1738
END:VEVENT

END:VCALENDAR
