BEGIN:VCALENDAR
VERSION:2.0
PRODID:-//ChamberMaster//Event Calendar 2.0//EN
METHOD:PUBLISH
X-PUBLISHED-TTL:P3D
REFRESH-INTERVAL:P3D
CALSCALE:GREGORIAN
BEGIN:VEVENT
DTSTART:20151106T150000Z
DTEND:20151106T220000Z
X-MICROSOFT-CDO-ALLDAYEVENT:FALSE
SUMMARY:Millards ~Crafts in the Country~
DESCRIPTION:~Crafts in the Country~ Join a wonderful event in which the proceeds benefit the church scholarship fund. Crafts\, Gifts with Bake Sale
X-ALT-DESC;FMTTYPE=text/html:~Crafts in the Country~ Join a wonderful event in which the proceeds benefit the church scholarship fund. Crafts\, Gifts with Bake Sale
LOCATION:Millard Community Covenant Church Intersection of County Rd. A & O - North of Elkhorn
UID:e.2059.1737
SEQUENCE:3
DTSTAMP:20260424T124337Z
URL:https://business.elkhornchamber.com/events/details/millards-crafts-in-the-country-11-06-2015-1737
END:VEVENT

END:VCALENDAR
