BEGIN:VCALENDAR
VERSION:2.0
PRODID:-//ChamberMaster//Event Calendar 2.0//EN
METHOD:PUBLISH
X-PUBLISHED-TTL:P3D
REFRESH-INTERVAL:P3D
CALSCALE:GREGORIAN
BEGIN:VEVENT
DTSTART:20160721T233000Z
DTEND:20160721T233000Z
X-MICROSOFT-CDO-ALLDAYEVENT:FALSE
SUMMARY:Midwest Health Movement
DESCRIPTION:Introducing a Nutritional Program as unique as you are...Revolutionizing the Health & Wellness Industry with Customized Nutrition. \n\nCome get your FREE health score!\n\nFeatured Speakers:\n\n Dr. Angela Rahm & Dana Kantara
X-ALT-DESC;FMTTYPE=text/html:Introducing a <span style="color:#FF8C00\;"><strong><span style="font-size: 18px\;">Nutritional Program</span></strong></span> as unique as you are...<span style="color:#FF8C00\;"><span style="font-size: 18px\;"><strong>Revolutionizing the Health &amp\; Wellness Industry </strong></span></span><span style="font-size: 18px\;"><span style="color:#000000\;"><span style="font-size:16px\;">with </span></span><span style="color:#FF8C00\;"><span style="font-size: 16px\;"><span style="font-size: 18px\;"><strong>Customized Nutrition</strong></span></span></span><span style="color:#000000\;"><span style="font-size:16px\;">. </span></span><br />\n<span style="color:#B22222\;"><span style="font-size: 16px\;"><strong><span style="font-size: 18px\;">Come get your FREE health score!<br />\nFeatured Speakers:<br />\n&nbsp\;Dr. Angela Rahm &amp\; Dana Kantara</span></strong></span></span></span>
LOCATION:Friend's On the Square 41 N. Wisconsin St. Elkhorn\, WI 53121
UID:e.2059.4459
SEQUENCE:3
DTSTAMP:20260423T233753Z
URL:https://business.elkhornchamber.com/events/details/midwest-health-movement-07-21-2016-4459
END:VEVENT

END:VCALENDAR
