BEGIN:VCALENDAR
VERSION:2.0
PRODID:-//ChamberMaster//Event Calendar 2.0//EN
METHOD:PUBLISH
X-PUBLISHED-TTL:P3D
REFRESH-INTERVAL:P3D
CALSCALE:GREGORIAN
BEGIN:VEVENT
DTSTART:20170624T230000Z
DTEND:20170625T020000Z
X-MICROSOFT-CDO-ALLDAYEVENT:FALSE
SUMMARY:MidSummer Magic at Old World Wisconsin
DESCRIPTION:Share a special summer evening with friends at this 15th annual event featuring live music on four stages\, sampling food and beverage from 40+ vendors from across Wisconsin\, along with an exciting silent auction featuring mobile bidding and a raffle. NEW This Year: Vintage vehicle show and demonstration by historic "base ball" players. The evening is set in the charming\, historic 1880's Crossroads Village on the grounds of Old World Wisconsin. $55/person\, all inclusive. Midsummer Magic is a fundraising event hosted by Old World Foundation\, in support of Old World Wisconsin.
X-ALT-DESC;FMTTYPE=text/html:Share a special summer evening with friends at this 15th annual event featuring live music on four stages\, sampling food and beverage from 40+ vendors from across Wisconsin\, along with an exciting silent auction featuring mobile bidding and a raffle. NEW This Year: Vintage vehicle show and demonstration by historic &quot\;base ball&quot\; players. The evening is set in the charming\, historic 1880&#39\;s Crossroads Village on the grounds of Old World Wisconsin. $55/person\, all inclusive. Midsummer Magic is a fundraising event hosted by Old World Foundation\, in support of Old World Wisconsin.
LOCATION:Old World Wisconsin W372 S9727 State Road 67 - Eagle\, WI 53119
UID:e.2059.5474
SEQUENCE:3
DTSTAMP:20260423T055536Z
URL:https://business.elkhornchamber.com/events/details/midsummer-magic-at-old-world-wisconsin-5474
END:VEVENT

END:VCALENDAR
