BEGIN:VCALENDAR
VERSION:2.0
PRODID:-//ChamberMaster//Event Calendar 2.0//EN
METHOD:PUBLISH
X-PUBLISHED-TTL:P3D
REFRESH-INTERVAL:P3D
CALSCALE:GREGORIAN
BEGIN:VEVENT
DTSTART;VALUE=DATE:20160630
DTEND;VALUE=DATE:20160701
TRANSP:TRANSPARENT
X-MICROSOFT-CDO-ALLDAYEVENT:TRUE
SUMMARY:Middle School Party at Sunset Pool
DESCRIPTION:Join the Middle School Party on June 30th. Ages 10 - 13! Music\, free games! Win prizes!\n\nThere will be a special $2 for a slice of pizza~
X-ALT-DESC;FMTTYPE=text/html:Join the Middle School Party on June 30th. Ages 10 - 13! Music\, free games! Win prizes!<br />\nThere will be a special $2 for a slice of pizza~
LOCATION:Sunset Pool Elkhorn located on Devendorf St\, West Centrailia St and Park Avenue
UID:e.2059.3509
SEQUENCE:3
DTSTAMP:20260423T234430Z
URL:https://business.elkhornchamber.com/events/details/middle-school-party-at-sunset-pool-06-30-2016-3509
END:VEVENT

END:VCALENDAR
