BEGIN:VCALENDAR
VERSION:2.0
PRODID:-//ChamberMaster//Event Calendar 2.0//EN
METHOD:PUBLISH
X-PUBLISHED-TTL:P3D
REFRESH-INTERVAL:P3D
CALSCALE:GREGORIAN
BEGIN:VEVENT
DTSTART:20180420T203000Z
DTEND:20180420T220000Z
X-MICROSOFT-CDO-ALLDAYEVENT:FALSE
SUMMARY:Middle School Madness
DESCRIPTION:Come one\, come all as we offer Middle School Madness for our middle schoolers\; a completely inclusive environment for all teens to have fun after school!\n\nPlease contact us for any accommodations that may be needed. We hope to see you all there!
X-ALT-DESC;FMTTYPE=text/html:<p><span style="background-color:transparent\; font-family:arial\; font-size:11pt">Come one\, come all as we offer Middle School Madness for our middle schoolers\; a completely inclusive environment for all teens to have fun after school!</span></p>\n\n<p><span style="background-color:transparent\; font-family:arial\; font-size:11pt">Please contact us for any accommodations that may be needed. We hope to see you all there!</span></p>\n
LOCATION:Matheson Memorial Library
UID:e.2059.7594
SEQUENCE:3
DTSTAMP:20260422T102535Z
URL:https://business.elkhornchamber.com/events/details/middle-school-madness-04-20-2018-7594
END:VEVENT

END:VCALENDAR
