BEGIN:VCALENDAR
VERSION:2.0
PRODID:-//ChamberMaster//Event Calendar 2.0//EN
METHOD:PUBLISH
X-PUBLISHED-TTL:P3D
REFRESH-INTERVAL:P3D
CALSCALE:GREGORIAN
BEGIN:VEVENT
DTSTART:20161008T150000Z
DTEND:20161008T190000Z
X-MICROSOFT-CDO-ALLDAYEVENT:FALSE
SUMMARY:MFG Day with Precision Plus
DESCRIPTION:Celebrate National Manufacturing Day with Precision Plus\n\nBring the Whole Family!\n\nThe MFG Day Mission:\n\nMFG Day addresses common misperceptions about manufacturing by giving manufacturers an opportunity to open their doors and show\, in a coordinated effort\,m what manufacturing is - and what it isn't.\n\nRegister by going to\n\nhttp://www.mfgday.com/events/2016/precision-plus-inc-4
X-ALT-DESC;FMTTYPE=text/html:Celebrate National Manufacturing Day with Precision Plus<br />\nBring the Whole Family!<br />\nThe MFG Day Mission:<br />\nMFG Day addresses common misperceptions about manufacturing by giving manufacturers an opportunity to open their doors and show\, in a coordinated effort\,m what manufacturing is - and what it isn&#39\;t.<br />\nRegister by going to<br />\n<a href="http://www.mfgday.com/events/2016/precision-plus-inc-4">http://www.mfgday.com/events/2016/precision-plus-inc-4</a>
LOCATION:Precision Plus 840 Koopman Lane Elkhorn\, Wi 53121
UID:e.2059.4540
SEQUENCE:3
DTSTAMP:20260423T184940Z
URL:https://business.elkhornchamber.com/events/details/mfg-day-with-precision-plus-4540
END:VEVENT

END:VCALENDAR
