BEGIN:VCALENDAR
VERSION:2.0
PRODID:-//ChamberMaster//Event Calendar 2.0//EN
METHOD:PUBLISH
X-PUBLISHED-TTL:P3D
REFRESH-INTERVAL:P3D
CALSCALE:GREGORIAN
BEGIN:VEVENT
DTSTART:20171212T213000Z
DTEND:20171212T233000Z
X-MICROSOFT-CDO-ALLDAYEVENT:FALSE
SUMMARY:Messy Art Club
DESCRIPTION:Do you love to be creative? Do you like to mess around with art? Kids of all ages and abilities are invited to Messy Art Club! Drop in anytime between 3:30 and 5:30pm on Tuesdays to create. We supply the materials\, you supply the imagination!
X-ALT-DESC;FMTTYPE=text/html:<p><span style="background-color:transparent\; color:rgb(0\, 0\, 0)\; font-family:arial\; font-size:11pt">Do you love to be creative? Do you like to mess around with art? Kids of all ages and abilities are invited to Messy Art Club! Drop in anytime between 3:30 and 5:30pm on Tuesdays to create.&nbsp\;</span><span style="background-color:transparent\; color:rgb(0\, 0\, 0)\; font-family:arial\; font-size:11pt">We supply the materials\, you supply the imagination!</span></p>\n\n<div>&nbsp\;</div>\n
LOCATION:Matheson Memorial Library
UID:e.2059.7287
SEQUENCE:3
DTSTAMP:20260422T164807Z
URL:https://business.elkhornchamber.com/events/details/messy-art-club-12-12-2017-7287
END:VEVENT

END:VCALENDAR
