BEGIN:VCALENDAR
VERSION:2.0
PRODID:-//ChamberMaster//Event Calendar 2.0//EN
METHOD:PUBLISH
X-PUBLISHED-TTL:P3D
REFRESH-INTERVAL:P3D
CALSCALE:GREGORIAN
BEGIN:VEVENT
DTSTART:20171024T203000Z
DTEND:20171024T223000Z
X-MICROSOFT-CDO-ALLDAYEVENT:FALSE
SUMMARY:Messy Art Club
DESCRIPTION:Do you love to be creative? Do you like to mess around with art? Kids of all ages\, from toddlers to teens\, are invited to Messy Art Club! Drop in any time between 3:30 and 5:30 to create. We supply the materials\, you supply the imagination!
X-ALT-DESC;FMTTYPE=text/html:<span style="background-color:transparent\; color:rgb(0\, 0\, 0)\; font-family:arial\; font-size:11pt">Do you love to be creative? Do you like to mess around with art? Kids of all ages\, from toddlers to teens\, are invited to Messy Art Club! Drop in any time between 3:30 and 5:30 to create.&nbsp\;</span><span style="background-color:transparent\; color:rgb(0\, 0\, 0)\; font-family:arial\; font-size:11pt">We supply the materials\, you supply the imagination!</span>
LOCATION:Matheson Memorial Library
UID:e.2059.6976
SEQUENCE:3
DTSTAMP:20260422T214519Z
URL:https://business.elkhornchamber.com/events/details/messy-art-club-10-24-2017-6976
END:VEVENT

END:VCALENDAR
