BEGIN:VCALENDAR
VERSION:2.0
PRODID:-//ChamberMaster//Event Calendar 2.0//EN
METHOD:PUBLISH
X-PUBLISHED-TTL:P3D
REFRESH-INTERVAL:P3D
CALSCALE:GREGORIAN
BEGIN:VEVENT
DTSTART:20180306T213000Z
DTEND:20180306T233000Z
X-MICROSOFT-CDO-ALLDAYEVENT:FALSE
SUMMARY:Messy Art Club
DESCRIPTION:Do you love to be creative? Do you like to mess around with art? Kids of all ages and abilities are invited to Messy Art Club! Drop in anytime between 3:30 and 5:30pm\, one Tuesday each month\, to create. We supply the materials\, you supply the imagination!
X-ALT-DESC;FMTTYPE=text/html:<p><span style="background-color:transparent\; font-family:arial\; font-size:11pt">Do you love to be creative? Do you like to mess around with art? Kids of all ages and abilities are invited to Messy Art Club! Drop in anytime between 3:30 and 5:30pm\, one Tuesday each month\, to create.&nbsp\;</span><span style="background-color:transparent\; font-family:arial\; font-size:11pt">We supply the materials\, you supply the imagination!</span></p>\n
LOCATION:Matheson Memorial Library
UID:e.2059.7560
SEQUENCE:3
DTSTAMP:20260422T115039Z
URL:https://business.elkhornchamber.com/events/details/messy-art-club-03-06-2018-7560
END:VEVENT

END:VCALENDAR
