BEGIN:VCALENDAR
VERSION:2.0
PRODID:-//ChamberMaster//Event Calendar 2.0//EN
METHOD:PUBLISH
X-PUBLISHED-TTL:P3D
REFRESH-INTERVAL:P3D
CALSCALE:GREGORIAN
BEGIN:VEVENT
DTSTART:20161215T163000Z
DTEND:20161215T180000Z
X-MICROSOFT-CDO-ALLDAYEVENT:FALSE
SUMMARY:Memory Keepers Club
DESCRIPTION:A Day in Time Presents: Memory Keepers Club! A monthly\, interactive brain fitness club. Keep your brain sharp through shared concepts and self-help techniques that include : Brain Preservation\, Ageless Grace Body & Brain Exercise\, Reducing Stress\, Nutrition Tips\, Social Engagement and Aging Wellness\, Education & Guest Speakers.  Any persons concerned about brain wellness are encouraged to attend. Nutritious snacks and refreshments served.
X-ALT-DESC;FMTTYPE=text/html:A Day in Time Presents: Memory Keepers Club! A monthly\, interactive brain fitness club. Keep your brain sharp through shared concepts and self-help techniques that include : Brain Preservation\, Ageless Grace Body &amp\; Brain Exercise\, Reducing Stress\, Nutrition Tips\, Social Engagement and Aging Wellness\, Education &amp\; Guest Speakers.&nbsp\; Any persons concerned about brain wellness are encouraged to attend. Nutritious snacks and refreshments served.
LOCATION:Memory Keepers Club is hosted inside the YMCA\, 203 S. Wells St\, Lake Geneva
UID:e.2059.1831
SEQUENCE:3
DTSTAMP:20260423T135254Z
URL:https://business.elkhornchamber.com/events/details/memory-keepers-club-12-15-2016-1831
END:VEVENT

END:VCALENDAR
