BEGIN:VCALENDAR
VERSION:2.0
PRODID:-//ChamberMaster//Event Calendar 2.0//EN
METHOD:PUBLISH
X-PUBLISHED-TTL:P3D
REFRESH-INTERVAL:P3D
CALSCALE:GREGORIAN
BEGIN:VEVENT
DTSTART:20190326T180000Z
DTEND:20190326T193000Z
X-MICROSOFT-CDO-ALLDAYEVENT:FALSE
SUMMARY:Memory Cafe
DESCRIPTION:A memory cafe is a place where people with MCI (Mild Cognitive Impairment)\, early stage Alzheimer's or related dementia\, can go with their care partners to socialize and have fun with other people going through similar things. A Memory Cafe has no real agenda or stated purposes except to enjoy each other's company. Cafes provide a time where you do not need to focus on the diagnosis\, while having a great time connecting with each other as a family or creating new friendships.\n\nToday:  Smile Party\, Paint Birdhouses
X-ALT-DESC;FMTTYPE=text/html:<div style="text-align:center"><span style="color:rgb(102\, 102\, 102)\; font-family:arial\,sans-serif\; font-size:12px">A memory cafe is a place where people with MCI (Mild Cognitive Impairment)\, early stage Alzheimer&#39\;s or related dementia\, can go with their care partners to socialize and have fun with other people going through similar things. A Memory Cafe has no real agenda or stated purposes except to enjoy each other&#39\;s company. Cafes provide a time where you do not need to focus on the diagnosis\, while having a great time connecting with each other as a family or creating new friendships.<br />\n<strong>Today:&nbsp\; Smile Party\, Paint Birdhouses</strong></span></div>\n
LOCATION:Matheson Memorial Library
UID:e.2059.10377
SEQUENCE:3
DTSTAMP:20260421T152634Z
URL:https://business.elkhornchamber.com/events/details/memory-cafe-03-26-2019-10377
END:VEVENT

END:VCALENDAR
