BEGIN:VCALENDAR
VERSION:2.0
PRODID:-//ChamberMaster//Event Calendar 2.0//EN
METHOD:PUBLISH
X-PUBLISHED-TTL:P3D
REFRESH-INTERVAL:P3D
CALSCALE:GREGORIAN
BEGIN:VEVENT
DTSTART:20180528T153000Z
DTEND:20180528T163000Z
X-MICROSOFT-CDO-ALLDAYEVENT:FALSE
SUMMARY:Memorial Day Parade
DESCRIPTION:Bring the family to downtown Elkhorn for the Memorial Day Parade followed a special service in Veterans Park by the memorial.
X-ALT-DESC;FMTTYPE=text/html:Bring the family to downtown Elkhorn for the Memorial Day Parade followed a special service in Veterans Park by the memorial.
LOCATION:Downtown Elkhorn
UID:e.2059.269
SEQUENCE:3
DTSTAMP:20260422T101758Z
URL:https://business.elkhornchamber.com/events/details/memorial-day-parade-05-28-2018-269
END:VEVENT

END:VCALENDAR
