BEGIN:VCALENDAR
VERSION:2.0
PRODID:-//ChamberMaster//Event Calendar 2.0//EN
METHOD:PUBLISH
X-PUBLISHED-TTL:P3D
REFRESH-INTERVAL:P3D
CALSCALE:GREGORIAN
BEGIN:VEVENT
DTSTART:20160404T220000Z
DTEND:20160405T000000Z
X-MICROSOFT-CDO-ALLDAYEVENT:FALSE
SUMMARY:Meet & Greet~ Open Arms Free Clinic
DESCRIPTION:Love & Compassion are neccessities\, not luxuries. Without them humanity cannot survive.- Dalai Lama\n\nPlease join us for a Meet & Greet with clinic board members and volunteer providers.\n\nOpen Arms Free Clinic is a Free\, non-emergent health care for the uninsured\, low income\, and underserved in Walworth County.
X-ALT-DESC;FMTTYPE=text/html:Love &amp\; Compassion are neccessities\, not luxuries. Without them humanity cannot survive.- Dalai Lama<br />\nPlease join us for a Meet &amp\; Greet with clinic board members and volunteer providers.<br />\nOpen Arms Free Clinic is a Free\, non-emergent health care for the uninsured\, low income\, and underserved in Walworth County.
LOCATION:205 E. Commerce Ct. Elkhorn\, WI 53121
UID:e.2059.1950
SEQUENCE:3
DTSTAMP:20260424T030710Z
URL:https://business.elkhornchamber.com/events/details/meet-greet-open-arms-free-clinic-04-04-2016-1950
END:VEVENT

END:VCALENDAR
