BEGIN:VCALENDAR
VERSION:2.0
PRODID:-//ChamberMaster//Event Calendar 2.0//EN
METHOD:PUBLISH
X-PUBLISHED-TTL:P3D
REFRESH-INTERVAL:P3D
CALSCALE:GREGORIAN
BEGIN:VEVENT
DTSTART:20160309T003000Z
DTEND:20160405T233000Z
X-MICROSOFT-CDO-ALLDAYEVENT:FALSE
SUMMARY:Meditation classes
DESCRIPTION:To whom it may concern: Would you please print the following press release? Thank you so much! Sincerely\, Beth Rendall There will be free meditation classes offered at the Unitarian Universalist Church of the Lakes in Elkhorn starting Tuesday\, March 8th from 6:30-8:00 p.m. There's a total of 5 classes on 5 consecutive Tuesdays. People can attend as many as they would like. These are beginning Shambhala meditation classes and will be taught by Rebecca McAllister who is a nurse practioner teaches nursing\, and runs her own wellness consulting practice. For questions\, see our website at uuchurchofthelakes.org or call 262-248-3159.
X-ALT-DESC;FMTTYPE=text/html:To whom it may concern: Would you please print the following press release? Thank you so much! Sincerely\, Beth Rendall There will be free meditation classes offered at the Unitarian Universalist Church of the Lakes in Elkhorn starting Tuesday\, March 8th from 6:30-8:00 p.m. There&#39\;s a total of 5 classes on 5 consecutive Tuesdays. People can attend as many as they would like. These are beginning Shambhala meditation classes and will be taught by Rebecca McAllister who is a nurse practioner teaches nursing\, and runs her own wellness consulting practice. For questions\, see our website at uuchurchofthelakes.org or call 262-248-3159.
LOCATION:Unitarian Universalist Church of the Lakes\, 319 N. Broad St. Elkhorn WI
UID:e.2059.1989
SEQUENCE:3
DTSTAMP:20260424T030016Z
URL:https://business.elkhornchamber.com/events/details/meditation-classes-03-08-2016-1989
END:VEVENT

END:VCALENDAR
