BEGIN:VCALENDAR
VERSION:2.0
PRODID:-//ChamberMaster//Event Calendar 2.0//EN
METHOD:PUBLISH
X-PUBLISHED-TTL:P3D
REFRESH-INTERVAL:P3D
CALSCALE:GREGORIAN
BEGIN:VEVENT
DTSTART:20160419T233000Z
DTEND:20160518T010000Z
X-MICROSOFT-CDO-ALLDAYEVENT:FALSE
SUMMARY:Meditation class
DESCRIPTION:These meditation classes will be led by Rebecca McAllister\, an instructor from the Shambala Center in Milwaukee and a wellness coach.
X-ALT-DESC;FMTTYPE=text/html:These meditation classes will be led by Rebecca McAllister\, an instructor from the Shambala Center in Milwaukee and a wellness coach.
LOCATION:Unitarian Universalist Church 319 N. Broad St. Elkhorn WI
UID:e.2059.3442
SEQUENCE:3
DTSTAMP:20260424T011603Z
URL:https://business.elkhornchamber.com/events/details/meditation-class-04-19-2016-3442
END:VEVENT

END:VCALENDAR
