BEGIN:VCALENDAR
VERSION:2.0
PRODID:-//ChamberMaster//Event Calendar 2.0//EN
METHOD:PUBLISH
X-PUBLISHED-TTL:P3D
REFRESH-INTERVAL:P3D
CALSCALE:GREGORIAN
BEGIN:VEVENT
DTSTART:20190320T003000Z
DTEND:20190320T043000Z
X-MICROSOFT-CDO-ALLDAYEVENT:FALSE
SUMMARY:MAYUMANA: Currents at the Young Auditorium
DESCRIPTION:Presented By Contemporary Issues and Cultural Affairs -  Cutting-edge Israeli music and dance troupe MAYUMANA presents Currents\, a spectacular visual and auditory experience\, originally created for the Jerusalem Light Festival. Inspired by the historical 'Battle of Currents' between Thomas Edison and Nikola Tesla\, two separate performance troops\, each inspired by a different esthetic and artistic approach\, use unique sounds\, lights\, and visual effects to portray different viewpoints of the essence of light and electricity.
X-ALT-DESC;FMTTYPE=text/html:<span style="box-sizing: border-box\; font-weight: 700\; color: rgb(102\, 102\, 102)\; font-family: georgia\; font-size: 12px\;">&nbsp\;</span><em style="box-sizing: border-box\; color: rgb(102\, 102\, 102)\; font-family: georgia\; font-size: 12px\;">Presented By Contemporary Issues and Cultural Affairs -&nbsp\;</em><span style="color: rgb(102\, 102\, 102)\; font-family: &quot\;PT Sans&quot\;\, sans-serif\; font-size: 16px\;">&nbsp\;Cutting-edge Israeli music and dance troupe MAYUMANA presents Currents\, a spectacular visual and auditory experience\, originally created for the Jerusalem Light Festival. Inspired by the historical &lsquo\;Battle of Currents&#39\; between Thomas Edison and Nikola Tesla\, two separate performance troops\, each inspired by a different esthetic and artistic approach\, use unique sounds\, lights\, and visual effects to portray different viewpoints of the essence of light and electricity.</span>
LOCATION:Young Auditorium 930 W. Main Street Whitewater\, WI 53190
UID:e.2059.10198
SEQUENCE:3
DTSTAMP:20260421T172657Z
URL:https://business.elkhornchamber.com/events/details/mayumana-currents-at-the-young-auditorium-10198
END:VEVENT

END:VCALENDAR
