BEGIN:VCALENDAR
VERSION:2.0
PRODID:-//ChamberMaster//Event Calendar 2.0//EN
METHOD:PUBLISH
X-PUBLISHED-TTL:P3D
REFRESH-INTERVAL:P3D
CALSCALE:GREGORIAN
BEGIN:VEVENT
DTSTART:20190504T153000Z
DTEND:20190504T170000Z
X-MICROSOFT-CDO-ALLDAYEVENT:FALSE
SUMMARY:May the Fourth be with You
DESCRIPTION:Star Wars fans unite! Dress up\, bring your friends and family\, and join us at the library for a Star Wars event with activities\, science\, and more!
X-ALT-DESC;FMTTYPE=text/html:<div style="text-align:center"><span style="color:rgb(0\, 0\, 0)\; font-family:arial\; font-size:14.6667px">Star Wars fans unite! Dress up\, bring your friends and family\, and join us at the library for a Star Wars event with activities\, science\, and more!</span></div>\n
LOCATION:Matheson Memorial Library
UID:e.2059.10693
SEQUENCE:3
DTSTAMP:20260421T120743Z
URL:https://business.elkhornchamber.com/events/details/may-the-fourth-be-with-you-05-04-2019-10693
END:VEVENT

END:VCALENDAR
