BEGIN:VCALENDAR
VERSION:2.0
PRODID:-//ChamberMaster//Event Calendar 2.0//EN
METHOD:PUBLISH
X-PUBLISHED-TTL:P3D
REFRESH-INTERVAL:P3D
CALSCALE:GREGORIAN
BEGIN:VEVENT
DTSTART:20150211T220000Z
DTEND:20150212T010000Z
X-MICROSOFT-CDO-ALLDAYEVENT:FALSE
SUMMARY:MASS REGISTRATION: T-Ball\, Coach Pitch\, Baseball\, & Softball
DESCRIPTION:Don't miss mass registration at the Recreation Center at Sunset Park for T-Ball\, Coach Pitch\, Baseball and Softball.\n\n\n\nYou will receive a packet of important information and forms to be sure you are ready for the season.  Find out more about Night Under the Lights in June.\n\n\n\nWe are still in need of volunteer coaches for all ages.\n\n\n\nPlease call if you have any questions:  262-741-5114.
X-ALT-DESC;FMTTYPE=text/html:Don&#39\;t miss mass registration at the Recreation Center at Sunset Park for T-Ball\, Coach Pitch\, Baseball and Softball.<br />\n<br />\nYou will receive a packet of important information and forms to be sure you are ready for the season.&nbsp\;&nbsp\;Find out more about Night Under the Lights in June.<br />\n<br />\nWe are still in need of volunteer coaches for all ages.<br />\n<br />\nPlease call if you have any questions: &nbsp\;262-741-5114.<br />\n&nbsp\;
LOCATION:Recreation Center at Sunset Park
UID:e.2059.851
SEQUENCE:3
DTSTAMP:20260425T023307Z
URL:https://business.elkhornchamber.com/events/details/mass-registration-t-ball-coach-pitch-baseball-softball-02-11-2015-851
END:VEVENT

END:VCALENDAR
