BEGIN:VCALENDAR
VERSION:2.0
PRODID:-//ChamberMaster//Event Calendar 2.0//EN
METHOD:PUBLISH
X-PUBLISHED-TTL:P3D
REFRESH-INTERVAL:P3D
CALSCALE:GREGORIAN
BEGIN:VEVENT
DTSTART:20160214T000000Z
DTEND:20160214T000000Z
X-MICROSOFT-CDO-ALLDAYEVENT:FALSE
SUMMARY:Marriage Fitness: When You're Falling off the Marriage Treadmill
DESCRIPTION:Marriage Fitness: When You're Falling off the Marriage Treadmill. How to stay focused and disciplined for a healthy relationship. Presented by St.Patrick's TLC (True Loving Covenant) Ministry. Must preregister by Monday\, February 8th. Michael and Kristen have been married for 15 years and have three children ages 13\, 9\, and 4. Together\, our passion is in preserving the fmily and passing on the message of Christ through personal witness and experience. We have presented at various venues including Theology on Tap for Young Aduts\, Engaged Workshops through the Archdiocesan Nazereh Project\, and special nights on Marriage in different parish settings. Together we have over 20 years of active ministry experience. For more information\, call the Parish office at 262-723-5565 or email office@stpatrickselkhorn.org.
X-ALT-DESC;FMTTYPE=text/html:<ul>\n	<li>Marriage Fitness: When You&#39\;re Falling off the Marriage Treadmill. How to stay focused and disciplined for a healthy relationship. Presented by St.Patrick&#39\;s TLC (True Loving Covenant) Ministry. Must preregister by Monday\, February 8th. Michael and Kristen have been married for 15 years and have three children ages 13\, 9\, and 4. Together\, our passion is in preserving the fmily and passing on the message of Christ through personal witness and experience. We have presented at various venues including Theology on Tap for Young Aduts\, Engaged Workshops through the Archdiocesan Nazereh Project\, and special nights on Marriage in different parish settings. Together we have over 20 years of active ministry experience. For more information\, call the Parish office at 262-723-5565 or email office@stpatrickselkhorn.org.</li>\n</ul>\n
LOCATION:Evergreen Country Club Hwy 67\, Elkhorn Wi
UID:e.2059.1894
SEQUENCE:3
DTSTAMP:20260424T065630Z
URL:https://business.elkhornchamber.com/events/details/marriage-fitness-when-you-re-falling-off-the-marriage-treadmill-02-13-2016-1894
END:VEVENT

END:VCALENDAR
