BEGIN:VCALENDAR
VERSION:2.0
PRODID:-//ChamberMaster//Event Calendar 2.0//EN
METHOD:PUBLISH
X-PUBLISHED-TTL:P3D
REFRESH-INTERVAL:P3D
CALSCALE:GREGORIAN
BEGIN:VEVENT
DTSTART:20170915T130000Z
DTEND:20170915T180000Z
X-MICROSOFT-CDO-ALLDAYEVENT:FALSE
SUMMARY:Market At The Barn
DESCRIPTION:Terra Yard Creations Presents: "Friday Market at the Barn" EVERY Friday from 8 AM- 1PM Terra Yard Creations will have a variety of local vendors that will be showcasing their goods. FRESH PRODUCE - HANDCRAFTED ITEMS - FRESHLY BREWED COFFEE - FRESH CUT FLOWERS - NATURAL SKINCARE PRODUCTS - ESSENTIAL OILS - HOME DECOR - ACCESSORIES - AND MORE!
X-ALT-DESC;FMTTYPE=text/html:Terra Yard Creations Presents: &quot\;Friday Market at the Barn&quot\; EVERY Friday from 8 AM- 1PM Terra Yard Creations will have a variety of local vendors that will be showcasing their goods. FRESH PRODUCE - HANDCRAFTED ITEMS - FRESHLY BREWED COFFEE - FRESH CUT FLOWERS - NATURAL SKINCARE PRODUCTS - ESSENTIAL OILS - HOME DECOR - ACCESSORIES - AND MORE!
LOCATION:Terra Yard Creations 202 E. Grant St Elkhorn\, WI 53121
UID:e.2059.6091
SEQUENCE:3
DTSTAMP:20260422T214749Z
URL:https://business.elkhornchamber.com/events/details/market-at-the-barn-09-15-2017-6091
END:VEVENT

END:VCALENDAR
