BEGIN:VCALENDAR
VERSION:2.0
PRODID:-//ChamberMaster//Event Calendar 2.0//EN
METHOD:PUBLISH
X-PUBLISHED-TTL:P3D
REFRESH-INTERVAL:P3D
CALSCALE:GREGORIAN
BEGIN:VEVENT
DTSTART;VALUE=DATE:20160331
DTEND;VALUE=DATE:20160401
TRANSP:TRANSPARENT
X-MICROSOFT-CDO-ALLDAYEVENT:TRUE
SUMMARY:March Madness Happy Hour @ Sperino's
DESCRIPTION:Join us during all Men's NCAA Tournament Basketball Games!\n\nHappy Hour : served during games Starting March 17th\n\nSpecials:\n\n$2 Rail Cocktails\n\n$4 Craft Draft Beers\n\n$3.50 Captain Mixers\n\n$10 Coors Light Buckets(5)\n\n$12 Domestic Bottle Buckets (5)\n\nAppetizer Specials!
X-ALT-DESC;FMTTYPE=text/html:Join us during all Men&#39\;s NCAA Tournament Basketball Games!<br />\nHappy Hour : served during games Starting March 17th<br />\n<u>Specials:</u><br />\n$2 Rail Cocktails<br />\n$4 Craft Draft Beers<br />\n$3.50 Captain Mixers<br />\n$10 Coors Light Buckets(5)<br />\n$12 Domestic Bottle Buckets (5)<br />\nAppetizer Specials!
LOCATION:Sperino's 720 N. Wisconsin St Elkhorn\, WI
UID:e.2059.2941
SEQUENCE:3
DTSTAMP:20260424T045951Z
URL:https://business.elkhornchamber.com/events/details/march-madness-happy-hour-sperino-s-03-31-2016-2941
END:VEVENT

END:VCALENDAR
