BEGIN:VCALENDAR
VERSION:2.0
PRODID:-//ChamberMaster//Event Calendar 2.0//EN
METHOD:PUBLISH
X-PUBLISHED-TTL:P3D
REFRESH-INTERVAL:P3D
CALSCALE:GREGORIAN
BEGIN:VEVENT
DTSTART:20170407T220000Z
DTEND:20170408T013000Z
X-MICROSOFT-CDO-ALLDAYEVENT:FALSE
SUMMARY:March Madness Goes Into Overtime
DESCRIPTION:Fun for the Whole Family! March Madness goes into Overtime! Bring your appetite\, concessions will be available. Teachers vs. Students vs. Local Heroes.\n\nHalf Time Performances and make sure to stop by the Book Fair.\n\nAll PTO proceeds are used to benefit our Students\, Teachers and School.
X-ALT-DESC;FMTTYPE=text/html:Fun for the Whole Family! March Madness goes into Overtime! Bring your appetite\, concessions will be available. Teachers vs. Students vs. Local Heroes.<br />\nHalf Time Performances and make sure to stop by the Book Fair.<br />\nAll PTO proceeds are used to benefit our Students\, Teachers and School.
LOCATION:Elkhorn Area Middle School
UID:e.2059.5005
SEQUENCE:3
DTSTAMP:20260423T074611Z
URL:https://business.elkhornchamber.com/events/details/march-madness-goes-into-overtime-5005
END:VEVENT

END:VCALENDAR
