BEGIN:VCALENDAR
VERSION:2.0
PRODID:-//ChamberMaster//Event Calendar 2.0//EN
METHOD:PUBLISH
X-PUBLISHED-TTL:P3D
REFRESH-INTERVAL:P3D
CALSCALE:GREGORIAN
BEGIN:VEVENT
DTSTART:20160311T230000Z
DTEND:20160311T230000Z
X-MICROSOFT-CDO-ALLDAYEVENT:FALSE
SUMMARY:March Madness Elkhorn Area Middle School
DESCRIPTION:On behalf of the Elkhorn Area Middle School PTO\, we would like to invite you to our March Madness event on Friday\, March 11th. Our PTO Fundraiser!\n\nDoors open at 5pm and basketball starts at 6pm.\n\nThe basketball game will have 8 teams participating:\n\n2-6th grade teams\n\n2-7th grade teams\n\n2-8th grade teams\n\n1-hometown heroes team (police and fire depts. have been asked to participate)\n\n2-teacher/staff team
X-ALT-DESC;FMTTYPE=text/html:On behalf of the Elkhorn Area Middle School PTO\, we would like to invite you to our March Madness event on Friday\, March 11th. Our PTO Fundraiser!<br />\nDoors open at 5pm and basketball starts at 6pm.<br />\nThe basketball game will have 8 teams participating:<br />\n2-6th grade teams<br />\n2-7th grade teams<br />\n2-8th grade teams<br />\n1-hometown heroes team (police and fire depts. have been asked to participate)<br />\n2-teacher/staff team<br />\n&nbsp\;
LOCATION:Elkhorn Area Middle School
UID:e.2059.2068
SEQUENCE:3
DTSTAMP:20260424T050216Z
URL:https://business.elkhornchamber.com/events/details/march-madness-elkhorn-area-middle-school-03-11-2016-2068
END:VEVENT

END:VCALENDAR
