BEGIN:VCALENDAR
VERSION:2.0
PRODID:-//ChamberMaster//Event Calendar 2.0//EN
METHOD:PUBLISH
X-PUBLISHED-TTL:P3D
REFRESH-INTERVAL:P3D
CALSCALE:GREGORIAN
BEGIN:VEVENT
DTSTART:20161027T150000Z
DTEND:20161027T180000Z
X-MICROSOFT-CDO-ALLDAYEVENT:FALSE
SUMMARY:Manufacturing Job Fair
DESCRIPTION:Manufacturing offers great career opportunities. Area manufacturers throughout Walworth County welcome all job seekers. These businesses will be gathering for an exciting job fair:\n\nKikkoman\n\nBaptista's Bakery\n\nSnyder's Lance\n\nMacLean-Fogg\n\nR & L Spring\n\nMediCoil\n\nProfessional Power Products\n\nMicro Precision\n\nLavelle Industries\n\nQuad Graphics\n\nSwiss-Tech\n\nPierce Mfg.\n\nProp-Shaft\n\nPrecision Plus\n\nHusco Intl.\n\nIntegra\n\nMPC\n\nTo find a great career with these companies we encourage you to attend on Thursday\, October 27th from 10am until 1pm.\n\nJob Seekers will have opportunities to meet hiring managers in person as well as discuss their resumes with potential employers. Some businesses will also do on the spot interviews\, increasing the possibility for great opportunities between job seekers and employers.\n\nThe Walworth County Job Center is open Monday through Friday from 8 am to 4:30p and offers a multitude of services to assist job seekers. No-cost workshops\, resume writing\, interviewing\, career counseling\, vocational assessment\, financial literacy\, computer basics and more. Be sure to keep up with the latest job postings at www.jobcenterofwisconsin.com as well as job fair details on Walworth County Job Center's Facebook page.
X-ALT-DESC;FMTTYPE=text/html:Manufacturing offers great career opportunities. Area manufacturers throughout Walworth County welcome all job seekers. These businesses will be gathering for an exciting job fair:<br />\nKikkoman<br />\nBaptista&#39\;s Bakery<br />\nSnyder&#39\;s Lance<br />\nMacLean-Fogg<br />\nR &amp\; L Spring<br />\nMediCoil<br />\nProfessional Power Products<br />\nMicro Precision<br />\nLavelle Industries<br />\nQuad Graphics<br />\nSwiss-Tech<br />\nPierce Mfg.<br />\nProp-Shaft<br />\nPrecision Plus<br />\nHusco Intl.<br />\nIntegra<br />\nMPC<br />\nTo find a great career with these companies we encourage you to attend on Thursday\, October 27th from 10am until 1pm.<br />\nJob Seekers will have opportunities to meet hiring managers in person as well as discuss their resumes with potential employers. Some businesses will also do on the spot interviews\, increasing the possibility for great opportunities between job seekers and employers.<br />\nThe Walworth County Job Center is open Monday through Friday from 8 am to 4:30p and offers a multitude of services to assist job seekers. No-cost workshops\, resume writing\, interviewing\, career counseling\, vocational assessment\, financial literacy\, computer basics and more. Be sure to keep up with the latest job postings at www.jobcenterofwisconsin.com as well as job fair details on Walworth County Job Center&#39\;s Facebook page.
LOCATION:Walworth County Job Center South Building Elkhorn Gateway Campus 400 County Road H Elkhorn\, WI 53121
UID:e.2059.4552
SEQUENCE:3
DTSTAMP:20260423T172354Z
URL:https://business.elkhornchamber.com/events/details/manufacturing-job-fair-4552
END:VEVENT

END:VCALENDAR
