BEGIN:VCALENDAR
VERSION:2.0
PRODID:-//ChamberMaster//Event Calendar 2.0//EN
METHOD:PUBLISH
X-PUBLISHED-TTL:P3D
REFRESH-INTERVAL:P3D
CALSCALE:GREGORIAN
BEGIN:VEVENT
DTSTART:20151029T150000Z
DTEND:20151029T180000Z
X-MICROSOFT-CDO-ALLDAYEVENT:FALSE
SUMMARY:Manufacturing Job Fair
DESCRIPTION:Manufacturing Job Fair. Providing opportunities for job seekers to connect with area employees seeking to hire for internships and staff for their seasonal\, part-time and full-time positions.
X-ALT-DESC;FMTTYPE=text/html:Manufacturing Job Fair. Providing opportunities for job seekers to connect with area employees seeking to hire for internships and staff for their seasonal\, part-time and full-time positions.
LOCATION:Walworth County Job Center South Building Elkhorn Gateway Technical College 400 County road H
UID:e.2059.1711
SEQUENCE:3
DTSTAMP:20260424T124136Z
URL:https://business.elkhornchamber.com/events/details/manufacturing-job-fair-10-29-2015-1711
END:VEVENT

END:VCALENDAR
