BEGIN:VCALENDAR
VERSION:2.0
PRODID:-//ChamberMaster//Event Calendar 2.0//EN
METHOD:PUBLISH
X-PUBLISHED-TTL:P3D
REFRESH-INTERVAL:P3D
CALSCALE:GREGORIAN
BEGIN:VEVENT
DTSTART:20181024T150000Z
DTEND:20181024T180000Z
X-MICROSOFT-CDO-ALLDAYEVENT:FALSE
SUMMARY:Manufacturing Hiring Event
DESCRIPTION:Looking for a JOB? \n\nMeet manufacturing hiring managers in person! Manufacturing Hiring Event\, Wednesday October 24th at the Gateway Campus\, Elkhorn!
X-ALT-DESC;FMTTYPE=text/html:Looking for a JOB?&nbsp\;<br />\nMeet manufacturing hiring managers in person! Manufacturing Hiring Event\, Wednesday October 24th at the Gateway Campus\, Elkhorn!
LOCATION:Elkkhorn Gateway Technical College\, South Building 400 County Rd H Elkhorn\, WI 53121
UID:e.2059.9564
SEQUENCE:3
DTSTAMP:20260422T001536Z
URL:https://business.elkhornchamber.com/events/details/manufacturing-hiring-event-9564
END:VEVENT

END:VCALENDAR
