BEGIN:VCALENDAR
VERSION:2.0
PRODID:-//ChamberMaster//Event Calendar 2.0//EN
METHOD:PUBLISH
X-PUBLISHED-TTL:P3D
REFRESH-INTERVAL:P3D
CALSCALE:GREGORIAN
BEGIN:VEVENT
DTSTART:20190507T213000Z
DTEND:20190507T230000Z
X-MICROSOFT-CDO-ALLDAYEVENT:FALSE
SUMMARY:Maker Workshop: Sewing Machines
DESCRIPTION:Kids\, teens and adults are invited to join us for a maker workshop with sewing machines. You can register for one session or all three (April 30\, May 7\, May 14). Please be aware that the library has a limited number of sewing machines. If you are bringing your own machine\, please note it in your registration. \n\n\n\nToday: Skirts \n\n Kids\, teens\, and adults are invited to join us for a sewing maker workshop focused on making your own skirt. We'll learn to take our measurements\, choose and cut a pattern\, and make a simple\, elastic-waist skirt.\n\nRegistration is required and space is limited\, so if you are unable to attend please let the library know. Attendees will have the opportunity to learn basic sewing machine skills as well as choosing and completing a simple project. Learn how to thread a machine\, control the treadle (foot control)\, and sew a straight line and curves.\n\nAttendees must have the required skills listed below:\n\nAbility to work independently and wait patiently for assistance when needed.\n\nCan safely use sewing implements with minimal supervision (needles and sharp scissors).\n\nAbility to thread a needle (needle threaders will be provided) and knot the end.\n\nAbility to safely use a sewing machine with limited supervision.\n\nHave sufficient motor control to use a foot pedal.
X-ALT-DESC;FMTTYPE=text/html:<p style="text-align:center"><span style="background-color:transparent\; font-family:arial\; font-size:11pt">Kids\, teens and adults are invited to join us for a maker workshop with sewing machines. You can register for one session or all three (April 30\, May 7\, May 14). Please be aware that the library has a limited number of sewing machines. If you are bringing your own machine\, please note it in your registration.&nbsp\;<br />\n<br />\n<strong>Today: Skirts&nbsp\;<br />\n&nbsp\;</strong></span><strong><span style="background-color:transparent\; color:rgb(0\, 0\, 0)\; font-family:arial\; font-size:11pt">Kids\, teens\, and adults are invited to join us for a sewing maker workshop focused on making your own skirt. We&rsquo\;ll learn to take our measurements\, choose and cut a pattern\, and make a simple\, elastic-waist skirt.</span></strong></p>\n\n<p style="text-align:center"><span style="background-color:transparent\; font-family:arial\; font-size:11pt"><strong>Registration is required and space is limited\, so if you are unable to attend please let the library know.</strong>&nbsp\;Attendees will have the opportunity to learn basic sewing machine skills as well as choosing and completing a simple project. Learn how to thread a machine\, control the treadle (foot control)\, and sew a straight line and curves.</span></p>\n\n<p style="text-align:center"><strong><span style="background-color:transparent\; font-family:arial\; font-size:11pt">Attendees must have the required skills listed below:</span></strong></p>\n\n<p style="text-align:center"><strong><span style="background-color:transparent\; font-size:11pt">Ability to work independently and wait patiently for assistance when needed.</span></strong></p>\n\n<p style="text-align:center"><strong><span style="background-color:transparent\; font-size:11pt">Can safely use sewing implements with minimal supervision (needles and sharp scissors).</span></strong></p>\n\n<p style="text-align:center"><strong><span style="background-color:transparent\; font-size:11pt">Ability to thread a needle (needle threaders will be provided) and knot the end.</span></strong></p>\n\n<p style="text-align:center"><strong><span style="background-color:transparent\; font-size:11pt">Ability to safely use a sewing machine with limited supervision.</span></strong></p>\n\n<p style="text-align:center"><strong><span style="background-color:transparent\; font-size:11pt">Have sufficient motor control to use a foot pedal.</span></strong></p>\n\n<p style="text-align:center">&nbsp\;</p>\n
LOCATION:Matheson Memorial Library
UID:e.2059.10698
SEQUENCE:3
DTSTAMP:20260421T120334Z
URL:https://business.elkhornchamber.com/events/details/maker-workshop-sewing-machines-05-07-2019-10698
END:VEVENT

END:VCALENDAR
