BEGIN:VCALENDAR
VERSION:2.0
PRODID:-//ChamberMaster//Event Calendar 2.0//EN
METHOD:PUBLISH
X-PUBLISHED-TTL:P3D
REFRESH-INTERVAL:P3D
CALSCALE:GREGORIAN
BEGIN:VEVENT
DTSTART:20160806T110000Z
DTEND:20160807T110000Z
X-MICROSOFT-CDO-ALLDAYEVENT:FALSE
SUMMARY:Madison Classic Car Show & Swap Meet
DESCRIPTION:The Elkhorn Swapmeet and Car Show offers over 1\,300 car part vendors\, perfect for finding the parts you need for your summer project! There are also 100's of cars in our Cars for Sale Corral\, making this the best place to find awesome cars! For the vendors\, with so many spectators\, over 15\,000\, this swapmeet is a great place to sell your car\, car parts\, and car accessories. Held at the Walworth County Fairgrounds.
X-ALT-DESC;FMTTYPE=text/html:The Elkhorn Swapmeet and Car Show offers over 1\,300 car part vendors\, perfect for finding the parts you need for your summer project! There are also 100&#39\;s of cars in our Cars for Sale Corral\, making this the best place to find awesome cars! For the vendors\, with so many spectators\, over 15\,000\, this swapmeet is a great place to sell your car\, car parts\, and car accessories. Held at the Walworth County Fairgrounds.
LOCATION:Walworth County Fairgrounds 411 E. Court St Elkhorn\, Wi
UID:e.2059.2008
SEQUENCE:3
DTSTAMP:20260423T220951Z
URL:https://business.elkhornchamber.com/events/details/madison-classic-car-show-swap-meet-08-06-2016-2008
END:VEVENT

END:VCALENDAR
