BEGIN:VCALENDAR
VERSION:2.0
PRODID:-//ChamberMaster//Event Calendar 2.0//EN
METHOD:PUBLISH
X-PUBLISHED-TTL:P3D
REFRESH-INTERVAL:P3D
CALSCALE:GREGORIAN
BEGIN:VEVENT
DTSTART:20171031T203000Z
DTEND:20171031T223000Z
X-MICROSOFT-CDO-ALLDAYEVENT:FALSE
SUMMARY:Mad Scientists Club
DESCRIPTION:Do you love to experiment? Do you like to mess around with science? Kids of all ages and abilities are invited to Mad Scientists Club! Drop in anytime between 3:30 and 5:30pm on Tuesdays to experiment. We supply the materials\, you supply the imagination!
X-ALT-DESC;FMTTYPE=text/html:<p><span style="background-color:transparent\; color:rgb(0\, 0\, 0)\; font-family:arial\; font-size:11pt">Do you love to experiment? Do you like to mess around with science? Kids of all ages and abilities are invited to Mad Scientists Club! Drop in anytime between 3:30 and 5:30pm on Tuesdays to experiment.&nbsp\;</span><span style="background-color:transparent\; color:rgb(0\, 0\, 0)\; font-family:arial\; font-size:11pt">We supply the materials\, you supply the imagination!</span></p>\n\n<div>&nbsp\;</div>\n
LOCATION:Matheson Memorial Library
UID:e.2059.7290
SEQUENCE:3
DTSTAMP:20260422T195531Z
URL:https://business.elkhornchamber.com/events/details/mad-scientists-club-7290
END:VEVENT

END:VCALENDAR
